BEGIN:VCALENDAR
VERSION:2.0
PRODID:-//wp-events-plugin.com//7.2.3.1//EN
TZID:Europe/Amsterdam
X-WR-TIMEZONE:Europe/Amsterdam
BEGIN:VEVENT
UID:40@neurofibromatose.meoconcept.nl
DTSTART;TZID=Europe/Amsterdam;VALUE=DATE:20261123
DTEND;TZID=Europe/Amsterdam;VALUE=DATE:20261124
DTSTAMP:20260205T154151Z
URL:https://neurofibromatose.meoconcept.nl/wat-we-doen/activiteitenagenda/
 alphen-aan-de-rijn/
SUMMARY:Alphen aan de Rijn
DESCRIPTION:Voor meer informatie: regio-west@neurofibromatose.nl.
CATEGORIES:Regio West
END:VEVENT
BEGIN:VTIMEZONE
TZID:Europe/Amsterdam
X-LIC-LOCATION:Europe/Amsterdam
BEGIN:STANDARD
DTSTART:20261025T020000
TZOFFSETFROM:+0200
TZOFFSETTO:+0100
TZNAME:CET
END:STANDARD
END:VTIMEZONE
END:VCALENDAR