BEGIN:VCALENDAR
VERSION:2.0
PRODID:-//wp-events-plugin.com//7.2.3.1//EN
TZID:Europe/Amsterdam
X-WR-TIMEZONE:Europe/Amsterdam
BEGIN:VEVENT
UID:48@neurofibromatose.meoconcept.nl
DTSTART;TZID=Europe/Amsterdam;VALUE=DATE:20261101
DTEND;TZID=Europe/Amsterdam;VALUE=DATE:20261102
DTSTAMP:20260212T103052Z
URL:https://neurofibromatose.meoconcept.nl/wat-we-doen/activiteitenagenda/
 groep-30-50-jarigen-2/
SUMMARY:Groep 30-50-jarigen
DESCRIPTION:Voor meer informatie: 30-50@neurofibromatose.nl
CATEGORIES:Doelgroep 30-50-jarigen
END:VEVENT
BEGIN:VTIMEZONE
TZID:Europe/Amsterdam
X-LIC-LOCATION:Europe/Amsterdam
BEGIN:STANDARD
DTSTART:20261025T020000
TZOFFSETFROM:+0200
TZOFFSETTO:+0100
TZNAME:CET
END:STANDARD
END:VTIMEZONE
END:VCALENDAR