BEGIN:VCALENDAR
VERSION:2.0
PRODID:-//wp-events-plugin.com//7.2.3.1//EN
TZID:Europe/Amsterdam
X-WR-TIMEZONE:Europe/Amsterdam
BEGIN:VEVENT
UID:41@neurofibromatose.meoconcept.nl
DTSTART;TZID=Europe/Amsterdam;VALUE=DATE:20260913
DTEND;TZID=Europe/Amsterdam;VALUE=DATE:20260914
DTSTAMP:20260212T102257Z
URL:https://neurofibromatose.meoconcept.nl/wat-we-doen/activiteitenagenda/
 landelijke-contactdag-2/
SUMMARY:Landelijke contactdag
DESCRIPTION:Ook dit jaar organiseren we weer een hele leuke landelijke cont
 actdag voor onze leden\, gezinsleden en hun kinderen.\n\nWe gaan naar de V
 eluwse Poort\, een mooie plek op de Veluwe in Dieren.\n\nVeluwse Poort –
  Kom als Gast\, Ga als Vriend!\n\nDe plek is goed bereikbaar met de auto. 
 Kom je met de trein\, dan zorgen we voor vervoer van en naar de locatie!\n
 \nWat doe je op de landelijke contactdag?\n\nAndere leden ontmoeten\, het 
 is een echte dag voor iedereen van jong tot oud\n\n 	Er is een gezellige o
 ntvangst – met koffie en iets lekkers – door bestuursleden en vrijwill
 igers\n 	Er zijn leuke activiteiten voor oud en jong\, waaraan je mee MAG 
 doen\, maar je kunt ook heerlijk genieten van de mooie Veluwse natuur of g
 ezellig kletsen op het terras\n 	Er is een eenvoudige lunch\n 	Er is een s
 peciaal jongerenprogramma\n 	Er is genoeg te doen voor kinderen\n\nDoe je 
 mee met de spelletjes? Kom je genieten van een heerlijke dag buiten (met m
 ooi weer) of binnen (met slecht weer)?\n\nEr is een springkussen voor de k
 inderen.\n\nMeld je aan voor deze leuke dag via https://www.eventbrite.nl/
 e/tickets-landelijke-contactdag-nfvn\n\nDe dag is gratis voor leden en gez
 insleden en hun kinderen. Niet (gezins)leden betalen €17\,50.\n\nLukt he
 t aanmelden niet\, neem dan even contact op met Antje Jacobi: 030-2006481.
CATEGORIES:Algemeen
END:VEVENT
BEGIN:VTIMEZONE
TZID:Europe/Amsterdam
X-LIC-LOCATION:Europe/Amsterdam
BEGIN:DAYLIGHT
DTSTART:20260329T030000
TZOFFSETFROM:+0100
TZOFFSETTO:+0200
TZNAME:CEST
END:DAYLIGHT
END:VTIMEZONE
END:VCALENDAR