BEGIN:VCALENDAR
VERSION:2.0
PRODID:-//wp-events-plugin.com//7.2.3.1//EN
TZID:Europe/Amsterdam
X-WR-TIMEZONE:Europe/Amsterdam
BEGIN:VEVENT
UID:44@neurofibromatose.meoconcept.nl
DTSTART;TZID=Europe/Amsterdam;VALUE=DATE:20261109
DTEND;TZID=Europe/Amsterdam;VALUE=DATE:20261110
DTSTAMP:20260212T102751Z
URL:https://neurofibromatose.meoconcept.nl/wat-we-doen/activiteitenagenda/
 oud-gastel/
SUMMARY:Oud-Gastel
DESCRIPTION:Bijeenkomst met etentje!\n\nVoor meer informatie: regio-zuidwes
 t@neurofibromatose.nl
CATEGORIES:Regio West
END:VEVENT
BEGIN:VTIMEZONE
TZID:Europe/Amsterdam
X-LIC-LOCATION:Europe/Amsterdam
BEGIN:STANDARD
DTSTART:20261025T020000
TZOFFSETFROM:+0200
TZOFFSETTO:+0100
TZNAME:CET
END:STANDARD
END:VTIMEZONE
END:VCALENDAR