BEGIN:VCALENDAR
VERSION:2.0
PRODID:-//wp-events-plugin.com//7.2.3.1//EN
TZID:Europe/Amsterdam
X-WR-TIMEZONE:Europe/Amsterdam
BEGIN:VEVENT
UID:49@neurofibromatose.meoconcept.nl
DTSTART;TZID=Europe/Amsterdam;VALUE=DATE:20261004
DTEND;TZID=Europe/Amsterdam;VALUE=DATE:20261005
DTSTAMP:20260212T103102Z
URL:https://neurofibromatose.meoconcept.nl/wat-we-doen/activiteitenagenda/
 tienergroep-ong-12-18-jr/
SUMMARY:Tienergroep (ong 12-18 jr)
DESCRIPTION:Voor meer informatie: tienergroep@neurofibromatose.nl 
CATEGORIES:Doelgroep Tieners
END:VEVENT
BEGIN:VTIMEZONE
TZID:Europe/Amsterdam
X-LIC-LOCATION:Europe/Amsterdam
BEGIN:DAYLIGHT
DTSTART:20260329T030000
TZOFFSETFROM:+0100
TZOFFSETTO:+0200
TZNAME:CEST
END:DAYLIGHT
END:VTIMEZONE
END:VCALENDAR